OziExplorer Map Data File Version 2.2
100k--r36-129_130--(1962).gif
100k--r36-129_130--(1962).gif
1 ,Map Code,
Pulkovo 1942 (2),WGS 84, 0.0000, 0.0000,WGS 84
Reserved 1
Reserved 2
Magnetic Variation,,,E
Map Projection,Transverse Mercator,PolyCal,No,AutoCalOnly,No,BSBUseWPX,No
Point01,xy, 132, 96,in, deg, 68, 40.0000,N, 34, 0.0000,E, grid, , , ,N
Point02,xy, 1727, 112,in, deg, 68, 40.0000,N, 34, 30.0000,E, grid, , , ,N
Point03,xy, 3324, 108,in, deg, 68, 40.0000,N, 35, 0.0000,E, grid, , , ,N
Point04,xy, 116, 1559,in, deg, 68, 30.0000,N, 34, 0.0000,E, grid, , , ,N
Point05,xy, 1723, 1576,in, deg, 68, 30.0000,N, 34, 30.0000,E, grid, , , ,N
Point06,xy, 3330, 1572,in, deg, 68, 30.0000,N, 35, 0.0000,E, grid, , , ,N
Point07,xy, 98, 3024,in, deg, 68, 20.0000,N, 34, 0.0000,E, grid, , , ,N
Point08,xy, 1721, 3036,in, deg, 68, 20.0000,N, 34, 30.0000,E, grid, , , ,N
Point09,xy, 3340, 3034,in, deg, 68, 20.0000,N, 35, 0.0000,E, grid, , , ,N
Point10,xy, , ,in, deg, , ,N, , ,W, grid, , , ,N
Point11,xy, , ,in, deg, , ,N, , ,W, grid, , , ,N
Point12,xy, , ,in, deg, , ,N, , ,W, grid, , , ,N
Point13,xy, , ,in, deg, , ,N, , ,W, grid, , , ,N
Point14,xy, , ,in, deg, , ,N, , ,W, grid, , , ,N
Point15,xy, , ,in, deg, , ,N, , ,W, grid, , , ,N
Point16,xy, , ,in, deg, , ,N, , ,W, grid, , , ,N
Point17,xy, , ,in, deg, , ,N, , ,W, grid, , , ,N
Point18,xy, , ,in, deg, , ,N, , ,W, grid, , , ,N
Point19,xy, , ,in, deg, , ,N, , ,W, grid, , , ,N
Point20,xy, , ,in, deg, , ,N, , ,W, grid, , , ,N
Point21,xy, , ,in, deg, , ,N, , ,W, grid, , , ,N
Point22,xy, , ,in, deg, , ,N, , ,W, grid, , , ,N
Point23,xy, , ,in, deg, , ,N, , ,W, grid, , , ,N
Point24,xy, , ,in, deg, , ,N, , ,W, grid, , , ,N
Point25,xy, , ,in, deg, , ,N, , ,W, grid, , , ,N
Point26,xy, , ,in, deg, , ,N, , ,W, grid, , , ,N
Point27,xy, , ,in, deg, , ,N, , ,W, grid, , , ,N
Point28,xy, , ,in, deg, , ,N, , ,W, grid, , , ,N
Point29,xy, , ,in, deg, , ,N, , ,W, grid, , , ,N
Point30,xy, , ,in, deg, , ,N, , ,W, grid, , , ,N
Projection Setup, 0.000000000, 33.000000000, 1.000000000, 500000.00, 0.00,,,,,
Map Feature = MF ; Map Comment = MC These follow if they exist
Track File = TF These follow if they exist
Moving Map Parameters = MM? These follow if they exist
MM0,Yes
MMPNUM,4
MMPXY,1,110,100
MMPXY,2,3332,100
MMPXY,3,3332,3029
MMPXY,4,110,3029
MMPLL,1, 33.993331, 68.666369
MMPLL,2, 35.002651, 68.667702
MMPLL,3, 34.997751, 68.334053
MMPLL,4, 34.003232, 68.332714
MM1B,12.713599
MOP,Map Open Position,0,0
IWH,Map Image Width/Height,3442,3129
