OziExplorer Map Data File Version 2.2
100k--r36-127_128.gif
100k--r36-127_128.gif
1 ,Map Code,
Pulkovo 1942 (2),WGS 84, 0.0000, 0.0000,WGS 84
Reserved 1
Reserved 2
Magnetic Variation,,,E
Map Projection,Transverse Mercator,PolyCal,No,AutoCalOnly,No,BSBUseWPX,No
Point01,xy, 116, 83,in, deg, 68, 40.0000,N, 33, 0.0000,E, grid, , , ,N
Point02,xy, 1703, 92,in, deg, 68, 40.0000,N, 33, 30.0000,E, grid, , , ,N
Point03,xy, 3289, 86,in, deg, 68, 40.0000,N, 34, 0.0000,E, grid, , , ,N
Point04,xy, 103, 1522,in, deg, 68, 30.0000,N, 33, 0.0000,E, grid, , , ,N
Point05,xy, 1701, 1530,in, deg, 68, 30.0000,N, 33, 30.0000,E, grid, , , ,N
Point06,xy, 3298, 1524,in, deg, 68, 30.0000,N, 34, 0.0000,E, grid, , , ,N
Point07,xy, 90, 2962,in, deg, 68, 20.0000,N, 33, 0.0000,E, grid, , , ,N
Point08,xy, 1700, 2968,in, deg, 68, 20.0000,N, 33, 30.0000,E, grid, , , ,N
Point09,xy, 3309, 2965,in, deg, 68, 20.0000,N, 34, 0.0000,E, grid, , , ,N
Point10,xy, , ,in, deg, , ,N, , ,W, grid, , , ,N
Point11,xy, , ,in, deg, , ,N, , ,W, grid, , , ,N
Point12,xy, , ,in, deg, , ,N, , ,W, grid, , , ,N
Point13,xy, , ,in, deg, , ,N, , ,W, grid, , , ,N
Point14,xy, , ,in, deg, , ,N, , ,W, grid, , , ,N
Point15,xy, , ,in, deg, , ,N, , ,W, grid, , , ,N
Point16,xy, , ,in, deg, , ,N, , ,W, grid, , , ,N
Point17,xy, , ,in, deg, , ,N, , ,W, grid, , , ,N
Point18,xy, , ,in, deg, , ,N, , ,W, grid, , , ,N
Point19,xy, , ,in, deg, , ,N, , ,W, grid, , , ,N
Point20,xy, , ,in, deg, , ,N, , ,W, grid, , , ,N
Point21,xy, , ,in, deg, , ,N, , ,W, grid, , , ,N
Point22,xy, , ,in, deg, , ,N, , ,W, grid, , , ,N
Point23,xy, , ,in, deg, , ,N, , ,W, grid, , , ,N
Point24,xy, , ,in, deg, , ,N, , ,W, grid, , , ,N
Point25,xy, , ,in, deg, , ,N, , ,W, grid, , , ,N
Point26,xy, , ,in, deg, , ,N, , ,W, grid, , , ,N
Point27,xy, , ,in, deg, , ,N, , ,W, grid, , , ,N
Point28,xy, , ,in, deg, , ,N, , ,W, grid, , , ,N
Point29,xy, , ,in, deg, , ,N, , ,W, grid, , , ,N
Point30,xy, , ,in, deg, , ,N, , ,W, grid, , , ,N
Projection Setup, 0.000000000, 33.000000000, 1.000000000, 500000.00, 0.00,,,,,
Map Feature = MF ; Map Comment = MC These follow if they exist
Track File = TF These follow if they exist
Moving Map Parameters = MM? These follow if they exist
MM0,Yes
MMPNUM,4
MMPXY,1,116,83
MMPXY,2,3289,86
MMPXY,3,3309,2965
MMPXY,4,90,2962
MMPLL,1, 33.000000, 68.666667
MMPLL,2, 34.000000, 68.666667
MMPLL,3, 34.000000, 68.333333
MMPLL,4, 33.000000, 68.333333
MM1B,12.131148
MOP,Map Open Position,0,0
IWH,Map Image Width/Height,3383,3050
