OziExplorer Map Data File Version 2.2
100k--q36-033_034.gif
100k--q36-033_034.gif
1 ,Map Code,
Pulkovo 1942 (2),WGS 84, 0.0000, 0.0000,WGS 84
Reserved 1
Reserved 2
Magnetic Variation,,,E
Map Projection,Transverse Mercator,PolyCal,No,AutoCalOnly,No,BSBUseWPX,No
Point01,xy, 110, 100,in, deg, 67, 20.0000,N, 34, 0.0000,E, grid, , , ,N
Point02,xy, 1800, 106,in, deg, 67, 20.0000,N, 34, 30.0000,E, grid, , , ,N
Point03,xy, 3490, 98,in, deg, 67, 20.0000,N, 35, 0.0000,E, grid, , , ,N
Point04,xy, 101, 1568,in, deg, 67, 10.0000,N, 34, 0.0000,E, grid, , , ,N
Point05,xy, 1802, 1573,in, deg, 67, 10.0000,N, 34, 30.0000,E, grid, , , ,N
Point06,xy, 3504, 1562,in, deg, 67, 10.0000,N, 35, 0.0000,E, grid, , , ,N
Point07,xy, 92, 3033,in, deg, 67, 0.0000,N, 34, 0.0000,E, grid, , , ,N
Point08,xy, 1805, 3037,in, deg, 67, 0.0000,N, 34, 30.0000,E, grid, , , ,N
Point09,xy, 3520, 3024,in, deg, 67, 0.0000,N, 35, 0.0000,E, grid, , , ,N
Point10,xy, , ,in, deg, , ,N, , ,W, grid, , , ,N
Point11,xy, , ,in, deg, , ,N, , ,W, grid, , , ,N
Point12,xy, , ,in, deg, , ,N, , ,W, grid, , , ,N
Point13,xy, , ,in, deg, , ,N, , ,W, grid, , , ,N
Point14,xy, , ,in, deg, , ,N, , ,W, grid, , , ,N
Point15,xy, , ,in, deg, , ,N, , ,W, grid, , , ,N
Point16,xy, , ,in, deg, , ,N, , ,W, grid, , , ,N
Point17,xy, , ,in, deg, , ,N, , ,W, grid, , , ,N
Point18,xy, , ,in, deg, , ,N, , ,W, grid, , , ,N
Point19,xy, , ,in, deg, , ,N, , ,W, grid, , , ,N
Point20,xy, , ,in, deg, , ,N, , ,W, grid, , , ,N
Point21,xy, , ,in, deg, , ,N, , ,W, grid, , , ,N
Point22,xy, , ,in, deg, , ,N, , ,W, grid, , , ,N
Point23,xy, , ,in, deg, , ,N, , ,W, grid, , , ,N
Point24,xy, , ,in, deg, , ,N, , ,W, grid, , , ,N
Point25,xy, , ,in, deg, , ,N, , ,W, grid, , , ,N
Point26,xy, , ,in, deg, , ,N, , ,W, grid, , , ,N
Point27,xy, , ,in, deg, , ,N, , ,W, grid, , , ,N
Point28,xy, , ,in, deg, , ,N, , ,W, grid, , , ,N
Point29,xy, , ,in, deg, , ,N, , ,W, grid, , , ,N
Point30,xy, , ,in, deg, , ,N, , ,W, grid, , , ,N
Projection Setup, 0.000000000, 33.000000000, 1.000000000, 500000.00, 0.00,,,,,
Map Feature = MF ; Map Comment = MC These follow if they exist
Track File = TF These follow if they exist
Moving Map Parameters = MM? These follow if they exist
MM0,Yes
MMPNUM,4
MMPXY,1,116,100
MMPXY,2,3500,100
MMPXY,3,3500,3036
MMPXY,4,116,3036
MMPLL,1, 34.001846, 67.333607
MMPLL,2, 35.002973, 67.332938
MMPLL,3, 34.994407, 66.998959
MMPLL,4, 34.007033, 66.999595
MM1B,12.720152
MOP,Map Open Position,0,0
IWH,Map Image Width/Height,3616,3136
