OziExplorer Map Data File Version 2.2
100k--q36-027_028.gif
100k--q36-027_028.gif
1 ,Map Code,
Pulkovo 1942 (2),WGS 84, 0.0000, 0.0000,WGS 84
Reserved 1
Reserved 2
Magnetic Variation,,,E
Map Projection,Transverse Mercator,PolyCal,No,AutoCalOnly,No,BSBUseWPX,No
Point01,xy, 106, 95,in, deg, 67, 20.0000,N, 31, 0.0000,E, grid, , , ,N
Point02,xy, 1800, 88,in, deg, 67, 20.0000,N, 31, 30.0000,E, grid, , , ,N
Point03,xy, 3492, 83,in, deg, 67, 20.0000,N, 32, 0.0000,E, grid, , , ,N
Point04,xy, 107, 1551,in, deg, 67, 10.0000,N, 31, 0.0000,E, grid, , , ,N
Point05,xy, 1799, 1553,in, deg, 67, 10.0000,N, 31, 30.0000,E, grid, , , ,N
Point06,xy, 3505, 1544,in, deg, 67, 10.0000,N, 32, 0.0000,E, grid, , , ,N
Point07,xy, 99, 3017,in, deg, 67, 0.0000,N, 31, 0.0000,E, grid, , , ,N
Point08,xy, 1808, 3018,in, deg, 67, 0.0000,N, 31, 30.0000,E, grid, , , ,N
Point09,xy, 3516, 3007,in, deg, 67, 0.0000,N, 32, 0.0000,E, grid, , , ,N
Point10,xy, , ,in, deg, , ,N, , ,W, grid, , , ,N
Point11,xy, , ,in, deg, , ,N, , ,W, grid, , , ,N
Point12,xy, , ,in, deg, , ,N, , ,W, grid, , , ,N
Point13,xy, , ,in, deg, , ,N, , ,W, grid, , , ,N
Point14,xy, , ,in, deg, , ,N, , ,W, grid, , , ,N
Point15,xy, , ,in, deg, , ,N, , ,W, grid, , , ,N
Point16,xy, , ,in, deg, , ,N, , ,W, grid, , , ,N
Point17,xy, , ,in, deg, , ,N, , ,W, grid, , , ,N
Point18,xy, , ,in, deg, , ,N, , ,W, grid, , , ,N
Point19,xy, , ,in, deg, , ,N, , ,W, grid, , , ,N
Point20,xy, , ,in, deg, , ,N, , ,W, grid, , , ,N
Point21,xy, , ,in, deg, , ,N, , ,W, grid, , , ,N
Point22,xy, , ,in, deg, , ,N, , ,W, grid, , , ,N
Point23,xy, , ,in, deg, , ,N, , ,W, grid, , , ,N
Point24,xy, , ,in, deg, , ,N, , ,W, grid, , , ,N
Point25,xy, , ,in, deg, , ,N, , ,W, grid, , , ,N
Point26,xy, , ,in, deg, , ,N, , ,W, grid, , , ,N
Point27,xy, , ,in, deg, , ,N, , ,W, grid, , , ,N
Point28,xy, , ,in, deg, , ,N, , ,W, grid, , , ,N
Point29,xy, , ,in, deg, , ,N, , ,W, grid, , , ,N
Point30,xy, , ,in, deg, , ,N, , ,W, grid, , , ,N
Projection Setup, 0.000000000, 33.000000000, 1.000000000, 500000.00, 0.00,,,,,
Map Feature = MF ; Map Comment = MC These follow if they exist
Track File = TF These follow if they exist
Moving Map Parameters = MM? These follow if they exist
MM0,Yes
MMPNUM,4
MMPXY,1,106,95
MMPXY,2,3492,83
MMPXY,3,3516,3007
MMPXY,4,99,3017
MMPLL,1, 31.000000, 67.333333
MMPLL,2, 32.000000, 67.333333
MMPLL,3, 32.000000, 67.000000
MMPLL,4, 31.000000, 67.000000
MM1B,11.851377
MOP,Map Open Position,0,0
IWH,Map Image Width/Height,3614,3122
