OziExplorer Map Data File Version 2.2
100k--q35-047_048.gif
100k--q35-047_048.gif
1 ,Map Code,
Pulkovo 1942 (2),WGS 84, 0.0000, 0.0000,WGS 84
Reserved 1
Reserved 2
Magnetic Variation,,,E
Map Projection,Transverse Mercator,PolyCal,No,AutoCalOnly,No,BSBUseWPX,No
Point01,xy, 106, 40,in, deg, 67, 0.0000,N, 29, 0.0000,E, grid, , , ,N
Point02,xy, 2030, 43,in, deg, 67, 0.0000,N, 29, 30.0000,E, grid, , , ,N
Point03,xy, 3990, 38,ex, deg, 67, 0.0000,N, 30, 0.0000,E, grid, , , ,N
Point04,xy, 100, 1675,in, deg, 66, 50.0000,N, 29, 0.0000,E, grid, , , ,N
Point05,xy, 2037, 1684,in, deg, 66, 50.0000,N, 29, 30.0000,E, grid, , , ,N
Point06,xy, 3972, 1678,in, deg, 66, 50.0000,N, 30, 0.0000,E, grid, , , ,N
Point07,xy, 96, 3312,in, deg, 66, 40.0000,N, 29, 0.0000,E, grid, , , ,N
Point08,xy, 2048, 3320,in, deg, 66, 40.0000,N, 29, 30.0000,E, grid, , , ,N
Point09,xy, 3992, 3314,in, deg, 66, 40.0000,N, 30, 0.0000,E, grid, , , ,N
Point10,xy, , ,in, deg, , ,N, , ,W, grid, , , ,N
Point11,xy, , ,in, deg, , ,N, , ,W, grid, , , ,N
Point12,xy, , ,in, deg, , ,N, , ,W, grid, , , ,N
Point13,xy, , ,in, deg, , ,N, , ,W, grid, , , ,N
Point14,xy, , ,in, deg, , ,N, , ,W, grid, , , ,N
Point15,xy, , ,in, deg, , ,N, , ,W, grid, , , ,N
Point16,xy, , ,in, deg, , ,N, , ,W, grid, , , ,N
Point17,xy, , ,in, deg, , ,N, , ,W, grid, , , ,N
Point18,xy, , ,in, deg, , ,N, , ,W, grid, , , ,N
Point19,xy, , ,in, deg, , ,N, , ,W, grid, , , ,N
Point20,xy, , ,in, deg, , ,N, , ,W, grid, , , ,N
Point21,xy, , ,in, deg, , ,N, , ,W, grid, , , ,N
Point22,xy, , ,in, deg, , ,N, , ,W, grid, , , ,N
Point23,xy, , ,in, deg, , ,N, , ,W, grid, , , ,N
Point24,xy, , ,in, deg, , ,N, , ,W, grid, , , ,N
Point25,xy, , ,in, deg, , ,N, , ,W, grid, , , ,N
Point26,xy, , ,in, deg, , ,N, , ,W, grid, , , ,N
Point27,xy, , ,in, deg, , ,N, , ,W, grid, , , ,N
Point28,xy, , ,in, deg, , ,N, , ,W, grid, , , ,N
Point29,xy, , ,in, deg, , ,N, , ,W, grid, , , ,N
Point30,xy, , ,in, deg, , ,N, , ,W, grid, , , ,N
Projection Setup, 0.000000000, 27.000000000, 1.000000000, 500000.00, 0.00,,,,,
Map Feature = MF ; Map Comment = MC These follow if they exist
Track File = TF These follow if they exist
Moving Map Parameters = MM? These follow if they exist
MM0,Yes
MMPNUM,4
MMPXY,1,130,109
MMPXY,2,3943,109
MMPXY,3,3943,3283
MMPXY,4,130,3283
MMPLL,1, 29.006199, 66.992778
MMPLL,2, 29.997655, 66.992881
MMPLL,3, 29.987091, 66.669843
MMPLL,4, 29.008603, 66.669677
MM1B,11.333303
MOP,Map Open Position,0,0
IWH,Map Image Width/Height,4073,3392
