OziExplorer Map Data File Version 2.2
100k--q35-023_024.gif
100k--q35-023_024.gif
1 ,Map Code,
Pulkovo 1942 (2),WGS 84, 0.0000, 0.0000,WGS 84
Reserved 1
Reserved 2
Magnetic Variation,,,E
Map Projection,Transverse Mercator,PolyCal,No,AutoCalOnly,No,BSBUseWPX,No
Point01,xy, 129, 92,in, deg, 67, 40.0000,N, 29, 0.0000,E, grid, , , ,N
Point02,xy, 1798, 106,in, deg, 67, 40.0000,N, 29, 30.0000,E, grid, , , ,N
Point03,xy, 3463, 100,in, deg, 67, 40.0000,N, 30, 0.0000,E, grid, , , ,N
Point04,xy, 116, 1560,in, deg, 67, 30.0000,N, 29, 0.0000,E, grid, , , ,N
Point05,xy, 1795, 1571,in, deg, 67, 30.0000,N, 29, 30.0000,E, grid, , , ,N
Point06,xy, 3473, 1566,in, deg, 67, 30.0000,N, 30, 0.0000,E, grid, , , ,N
Point07,xy, 101, 3028,in, deg, 67, 20.0000,N, 29, 0.0000,E, grid, , , ,N
Point08,xy, 1792, 3040,in, deg, 67, 20.0000,N, 29, 30.0000,E, grid, , , ,N
Point09,xy, 3483, 3036,in, deg, 67, 20.0000,N, 30, 0.0000,E, grid, , , ,N
Point10,xy, , ,in, deg, , ,N, , ,W, grid, , , ,N
Point11,xy, , ,in, deg, , ,N, , ,W, grid, , , ,N
Point12,xy, , ,in, deg, , ,N, , ,W, grid, , , ,N
Point13,xy, , ,in, deg, , ,N, , ,W, grid, , , ,N
Point14,xy, , ,in, deg, , ,N, , ,W, grid, , , ,N
Point15,xy, , ,in, deg, , ,N, , ,W, grid, , , ,N
Point16,xy, , ,in, deg, , ,N, , ,W, grid, , , ,N
Point17,xy, , ,in, deg, , ,N, , ,W, grid, , , ,N
Point18,xy, , ,in, deg, , ,N, , ,W, grid, , , ,N
Point19,xy, , ,in, deg, , ,N, , ,W, grid, , , ,N
Point20,xy, , ,in, deg, , ,N, , ,W, grid, , , ,N
Point21,xy, , ,in, deg, , ,N, , ,W, grid, , , ,N
Point22,xy, , ,in, deg, , ,N, , ,W, grid, , , ,N
Point23,xy, , ,in, deg, , ,N, , ,W, grid, , , ,N
Point24,xy, , ,in, deg, , ,N, , ,W, grid, , , ,N
Point25,xy, , ,in, deg, , ,N, , ,W, grid, , , ,N
Point26,xy, , ,in, deg, , ,N, , ,W, grid, , , ,N
Point27,xy, , ,in, deg, , ,N, , ,W, grid, , , ,N
Point28,xy, , ,in, deg, , ,N, , ,W, grid, , , ,N
Point29,xy, , ,in, deg, , ,N, , ,W, grid, , , ,N
Point30,xy, , ,in, deg, , ,N, , ,W, grid, , , ,N
Projection Setup, 0.000000000, 27.000000000, 1.000000000, 500000.00, 0.00,,,,,
Map Feature = MF ; Map Comment = MC These follow if they exist
Track File = TF These follow if they exist
Moving Map Parameters = MM? These follow if they exist
MM0,Yes
MMPNUM,4
MMPXY,1,115,100
MMPXY,2,3468,100
MMPXY,3,3468,3036
MMPXY,4,115,3036
MMPLL,1, 28.995601, 67.665862
MMPLL,2, 30.001250, 67.666685
MMPLL,3, 29.995642, 67.333311
MMPLL,4, 29.004013, 67.332460
MM1B,12.709065
MOP,Map Open Position,0,0
IWH,Map Image Width/Height,3583,3136
