OziExplorer Map Data File Version 2.2
100k--r37-123_124.gif
100k--r37-123_124.gif
1 ,Map Code,
Pulkovo 1942 (2),WGS 84, 0.0000, 0.0000,WGS 84
Reserved 1
Reserved 2
Magnetic Variation,,,E
Map Projection,Transverse Mercator,PolyCal,No,AutoCalOnly,No,BSBUseWPX,No
Point01,xy, 122, 90,in, deg, 68, 40.0000,N, 37, 0.0000,E, grid, , , ,N
Point02,xy, 1720, 106,in, deg, 68, 40.0000,N, 37, 30.0000,E, grid, , , ,N
Point03,xy, 3314, 104,in, deg, 68, 40.0000,N, 38, 0.0000,E, grid, , , ,N
Point04,xy, 105, 1554,in, deg, 68, 30.0000,N, 37, 0.0000,E, grid, , , ,N
Point05,xy, 1714, 1569,in, deg, 68, 30.0000,N, 37, 30.0000,E, grid, , , ,N
Point06,xy, 3320, 1564,in, deg, 68, 30.0000,N, 38, 0.0000,E, grid, , , ,N
Point07,xy, 88, 3016,in, deg, 68, 20.0000,N, 37, 0.0000,E, grid, , , ,N
Point08,xy, 1710, 3029,in, deg, 68, 20.0000,N, 37, 30.0000,E, grid, , , ,N
Point09,xy, 3328, 3025,in, deg, 68, 20.0000,N, 38, 0.0000,E, grid, , , ,N
Point10,xy, , ,in, deg, , ,N, , ,W, grid, , , ,N
Point11,xy, , ,in, deg, , ,N, , ,W, grid, , , ,N
Point12,xy, , ,in, deg, , ,N, , ,W, grid, , , ,N
Point13,xy, , ,in, deg, , ,N, , ,W, grid, , , ,N
Point14,xy, , ,in, deg, , ,N, , ,W, grid, , , ,N
Point15,xy, , ,in, deg, , ,N, , ,W, grid, , , ,N
Point16,xy, , ,in, deg, , ,N, , ,W, grid, , , ,N
Point17,xy, , ,in, deg, , ,N, , ,W, grid, , , ,N
Point18,xy, , ,in, deg, , ,N, , ,W, grid, , , ,N
Point19,xy, , ,in, deg, , ,N, , ,W, grid, , , ,N
Point20,xy, , ,in, deg, , ,N, , ,W, grid, , , ,N
Point21,xy, , ,in, deg, , ,N, , ,W, grid, , , ,N
Point22,xy, , ,in, deg, , ,N, , ,W, grid, , , ,N
Point23,xy, , ,in, deg, , ,N, , ,W, grid, , , ,N
Point24,xy, , ,in, deg, , ,N, , ,W, grid, , , ,N
Point25,xy, , ,in, deg, , ,N, , ,W, grid, , , ,N
Point26,xy, , ,in, deg, , ,N, , ,W, grid, , , ,N
Point27,xy, , ,in, deg, , ,N, , ,W, grid, , , ,N
Point28,xy, , ,in, deg, , ,N, , ,W, grid, , , ,N
Point29,xy, , ,in, deg, , ,N, , ,W, grid, , , ,N
Point30,xy, , ,in, deg, , ,N, , ,W, grid, , , ,N
Projection Setup, 0.000000000, 39.000000000, 1.000000000, 500000.00, 0.00,,,,,
Map Feature = MF ; Map Comment = MC These follow if they exist
Track File = TF These follow if they exist
Moving Map Parameters = MM? These follow if they exist
MM0,Yes
MMPNUM,4
MMPXY,1,110,100
MMPXY,2,3315,100
MMPXY,3,3315,3014
MMPXY,4,110,3014
MMPLL,1, 36.996118, 68.665801
MMPLL,2, 38.000188, 68.667071
MMPLL,3, 37.995959, 68.334806
MMPLL,4, 37.006550, 68.333575
MM1B,12.717093
MOP,Map Open Position,0,0
IWH,Map Image Width/Height,3425,3114
