OziExplorer Map Data File Version 2.2
100k--r35-141_142.gif
100k--r35-141_142.gif
1 ,Map Code,
Pulkovo 1942 (2),WGS 84, 0.0000, 0.0000,WGS 84
Reserved 1
Reserved 2
Magnetic Variation,,,E
Map Projection,Transverse Mercator,PolyCal,No,AutoCalOnly,No,BSBUseWPX,No
Point01,xy, 117, 96,in, deg, 68, 20.0000,N, 28, 0.0000,E, grid, , , ,N
Point02,xy, 1740, 104,in, deg, 68, 20.0000,N, 28, 30.0000,E, grid, , , ,N
Point03,xy, 3360, 97,in, deg, 68, 20.0000,N, 29, 0.0000,E, grid, , , ,N
Point04,xy, 107, 1562,in, deg, 68, 10.0000,N, 28, 0.0000,E, grid, , , ,N
Point05,xy, 1740, 1568,in, deg, 68, 10.0000,N, 28, 30.0000,E, grid, , , ,N
Point06,xy, 3372, 1562,in, deg, 68, 10.0000,N, 29, 0.0000,E, grid, , , ,N
Point07,xy, 98, 3026,in, deg, 68, 0.0000,N, 28, 0.0000,E, grid, , , ,N
Point08,xy, 1740, 3034,in, deg, 68, 0.0000,N, 28, 30.0000,E, grid, , , ,N
Point09,xy, 3386, 3024,in, deg, 68, 0.0000,N, 29, 0.0000,E, grid, , , ,N
Point10,xy, , ,in, deg, , ,N, , ,W, grid, , , ,N
Point11,xy, , ,in, deg, , ,N, , ,W, grid, , , ,N
Point12,xy, , ,in, deg, , ,N, , ,W, grid, , , ,N
Point13,xy, , ,in, deg, , ,N, , ,W, grid, , , ,N
Point14,xy, , ,in, deg, , ,N, , ,W, grid, , , ,N
Point15,xy, , ,in, deg, , ,N, , ,W, grid, , , ,N
Point16,xy, , ,in, deg, , ,N, , ,W, grid, , , ,N
Point17,xy, , ,in, deg, , ,N, , ,W, grid, , , ,N
Point18,xy, , ,in, deg, , ,N, , ,W, grid, , , ,N
Point19,xy, , ,in, deg, , ,N, , ,W, grid, , , ,N
Point20,xy, , ,in, deg, , ,N, , ,W, grid, , , ,N
Point21,xy, , ,in, deg, , ,N, , ,W, grid, , , ,N
Point22,xy, , ,in, deg, , ,N, , ,W, grid, , , ,N
Point23,xy, , ,in, deg, , ,N, , ,W, grid, , , ,N
Point24,xy, , ,in, deg, , ,N, , ,W, grid, , , ,N
Point25,xy, , ,in, deg, , ,N, , ,W, grid, , , ,N
Point26,xy, , ,in, deg, , ,N, , ,W, grid, , , ,N
Point27,xy, , ,in, deg, , ,N, , ,W, grid, , , ,N
Point28,xy, , ,in, deg, , ,N, , ,W, grid, , , ,N
Point29,xy, , ,in, deg, , ,N, , ,W, grid, , , ,N
Point30,xy, , ,in, deg, , ,N, , ,W, grid, , , ,N
Projection Setup, 0.000000000, 27.000000000, 1.000000000, 500000.00, 0.00,,,,,
Map Feature = MF ; Map Comment = MC These follow if they exist
Track File = TF These follow if they exist
Moving Map Parameters = MM? These follow if they exist
MM0,Yes
MMPNUM,4
MMPXY,1,111,100
MMPXY,2,3370,100
MMPXY,3,3370,3029
MMPXY,4,111,3029
MMPLL,1, 27.997842, 68.333006
MMPLL,2, 29.003183, 68.332954
MMPLL,3, 28.995227, 67.999652
MMPLL,4, 28.004366, 67.999679
MM1B,12.707430
MOP,Map Open Position,0,0
IWH,Map Image Width/Height,3481,3129
