OziExplorer Map Data File Version 2.2
100k--q37-055_056.gif
100k--q37-055_056.gif
1 ,Map Code,
Pulkovo 1942 (2),WGS 84, 0.0000, 0.0000,WGS 84
Reserved 1
Reserved 2
Magnetic Variation,,,E
Map Projection,Transverse Mercator,PolyCal,No,AutoCalOnly,No,BSBUseWPX,No
Point01,xy, 125, 97,in, deg, 66, 40.0000,N, 39, 0.0000,E, grid, , , ,N
Point02,xy, 1864, 108,in, deg, 66, 40.0000,N, 39, 30.0000,E, grid, , , ,N
Point03,xy, 3605, 104,in, deg, 66, 40.0000,N, 40, 0.0000,E, grid, , , ,N
Point04,xy, 112, 1560,in, deg, 66, 30.0000,N, 39, 0.0000,E, grid, , , ,N
Point05,xy, 1860, 1572,in, deg, 66, 30.0000,N, 39, 30.0000,E, grid, , , ,N
Point06,xy, 3612, 1567,in, deg, 66, 30.0000,N, 40, 0.0000,E, grid, , , ,N
Point07,xy, 96, 3021,in, deg, 66, 20.0000,N, 39, 0.0000,E, grid, , , ,N
Point08,xy, 1859, 3035,in, deg, 66, 20.0000,N, 39, 30.0000,E, grid, , , ,N
Point09,xy, 3620, 3029,in, deg, 66, 20.0000,N, 40, 0.0000,E, grid, , , ,N
Point10,xy, , ,in, deg, , ,N, , ,W, grid, , , ,N
Point11,xy, , ,in, deg, , ,N, , ,W, grid, , , ,N
Point12,xy, , ,in, deg, , ,N, , ,W, grid, , , ,N
Point13,xy, , ,in, deg, , ,N, , ,W, grid, , , ,N
Point14,xy, , ,in, deg, , ,N, , ,W, grid, , , ,N
Point15,xy, , ,in, deg, , ,N, , ,W, grid, , , ,N
Point16,xy, , ,in, deg, , ,N, , ,W, grid, , , ,N
Point17,xy, , ,in, deg, , ,N, , ,W, grid, , , ,N
Point18,xy, , ,in, deg, , ,N, , ,W, grid, , , ,N
Point19,xy, , ,in, deg, , ,N, , ,W, grid, , , ,N
Point20,xy, , ,in, deg, , ,N, , ,W, grid, , , ,N
Point21,xy, , ,in, deg, , ,N, , ,W, grid, , , ,N
Point22,xy, , ,in, deg, , ,N, , ,W, grid, , , ,N
Point23,xy, , ,in, deg, , ,N, , ,W, grid, , , ,N
Point24,xy, , ,in, deg, , ,N, , ,W, grid, , , ,N
Point25,xy, , ,in, deg, , ,N, , ,W, grid, , , ,N
Point26,xy, , ,in, deg, , ,N, , ,W, grid, , , ,N
Point27,xy, , ,in, deg, , ,N, , ,W, grid, , , ,N
Point28,xy, , ,in, deg, , ,N, , ,W, grid, , , ,N
Point29,xy, , ,in, deg, , ,N, , ,W, grid, , , ,N
Point30,xy, , ,in, deg, , ,N, , ,W, grid, , , ,N
Projection Setup, 0.000000000, 39.000000000, 1.000000000, 500000.00, 0.00,,,,,
Map Feature = MF ; Map Comment = MC These follow if they exist
Track File = TF These follow if they exist
Moving Map Parameters = MM? These follow if they exist
MM0,Yes
MMPNUM,4
MMPXY,1,119,100
MMPXY,2,3605,100
MMPXY,3,3605,3022
MMPXY,4,119,3022
MMPLL,1, 38.998094, 66.666347
MMPLL,2, 40.000416, 66.667180
MMPLL,3, 39.995575, 66.334246
MMPLL,4, 39.006546, 66.333416
MM1B,12.707850
MOP,Map Open Position,0,0
IWH,Map Image Width/Height,3724,3122
