OziExplorer Map Data File Version 2.2
100k--q36-037_038.gif
100k--q36-037_038.gif
1 ,Map Code,
Pulkovo 1942 (2),WGS 84, 0.0000, 0.0000,WGS 84
Reserved 1
Reserved 2
Magnetic Variation,,,E
Map Projection,Transverse Mercator,PolyCal,No,AutoCalOnly,No,BSBUseWPX,No
Point01,xy, 130, 86,in, deg, 67, 0.0000,N, 30, 0.0000,E, grid, , , ,N
Point02,xy, 1844, 100,in, deg, 67, 0.0000,N, 30, 30.0000,E, grid, , , ,N
Point03,xy, 3558, 94,in, deg, 67, 0.0000,N, 31, 0.0000,E, grid, , , ,N
Point04,xy, 116, 1548,in, deg, 66, 50.0000,N, 30, 0.0000,E, grid, , , ,N
Point05,xy, 1843, 1554,in, deg, 66, 50.0000,N, 30, 30.0000,E, grid, , , ,N
Point06,xy, 3568, 1555,in, deg, 66, 50.0000,N, 31, 0.0000,E, grid, , , ,N
Point07,xy, 101, 3008,in, deg, 66, 40.0000,N, 30, 0.0000,E, grid, , , ,N
Point08,xy, 1840, 3018,in, deg, 66, 40.0000,N, 30, 30.0000,E, grid, , , ,N
Point09,xy, 3578, 3013,in, deg, 66, 40.0000,N, 31, 0.0000,E, grid, , , ,N
Point10,xy, , ,in, deg, , ,N, , ,W, grid, , , ,N
Point11,xy, , ,in, deg, , ,N, , ,W, grid, , , ,N
Point12,xy, , ,in, deg, , ,N, , ,W, grid, , , ,N
Point13,xy, , ,in, deg, , ,N, , ,W, grid, , , ,N
Point14,xy, , ,in, deg, , ,N, , ,W, grid, , , ,N
Point15,xy, , ,in, deg, , ,N, , ,W, grid, , , ,N
Point16,xy, , ,in, deg, , ,N, , ,W, grid, , , ,N
Point17,xy, , ,in, deg, , ,N, , ,W, grid, , , ,N
Point18,xy, , ,in, deg, , ,N, , ,W, grid, , , ,N
Point19,xy, , ,in, deg, , ,N, , ,W, grid, , , ,N
Point20,xy, , ,in, deg, , ,N, , ,W, grid, , , ,N
Point21,xy, , ,in, deg, , ,N, , ,W, grid, , , ,N
Point22,xy, , ,in, deg, , ,N, , ,W, grid, , , ,N
Point23,xy, , ,in, deg, , ,N, , ,W, grid, , , ,N
Point24,xy, , ,in, deg, , ,N, , ,W, grid, , , ,N
Point25,xy, , ,in, deg, , ,N, , ,W, grid, , , ,N
Point26,xy, , ,in, deg, , ,N, , ,W, grid, , , ,N
Point27,xy, , ,in, deg, , ,N, , ,W, grid, , , ,N
Point28,xy, , ,in, deg, , ,N, , ,W, grid, , , ,N
Point29,xy, , ,in, deg, , ,N, , ,W, grid, , , ,N
Point30,xy, , ,in, deg, , ,N, , ,W, grid, , , ,N
Projection Setup, 0.000000000, 33.000000000, 1.000000000, 500000.00, 0.00,,,,,
Map Feature = MF ; Map Comment = MC These follow if they exist
Track File = TF These follow if they exist
Moving Map Parameters = MM? These follow if they exist
MM0,Yes
MMPNUM,4
MMPXY,1,118,100
MMPXY,2,3558,100
MMPXY,3,3558,3015
MMPXY,4,118,3015
MMPLL,1, 29.996617, 66.998544
MMPLL,2, 30.999812, 66.999333
MMPLL,3, 30.994323, 66.666528
MMPLL,4, 30.004641, 66.665786
MM1B,12.708886
MOP,Map Open Position,0,0
IWH,Map Image Width/Height,3676,3115
