OziExplorer Map Data File Version 2.2
100k--q36-029_030.gif
100k--q36-029_030.gif
1 ,Map Code,
Pulkovo 1942 (2),WGS 84, 0.0000, 0.0000,WGS 84
Reserved 1
Reserved 2
Magnetic Variation,,,E
Map Projection,Transverse Mercator,PolyCal,No,AutoCalOnly,No,BSBUseWPX,No
Point01,xy, 134, 78,in, deg, 67, 20.0000,N, 32, 0.0000,E, grid, , , ,N
Point02,xy, 2007, 77,in, deg, 67, 20.0000,N, 32, 30.0000,E, grid, , , ,N
Point03,xy, 3878, 81,in, deg, 67, 20.0000,N, 33, 0.0000,E, grid, , , ,N
Point04,xy, 125, 1735,ex, deg, 67, 10.0000,N, 32, 0.0000,E, grid, , , ,N
Point05,xy, 1964, 1666,ex, deg, 67, 10.0000,N, 32, 30.0000,E, grid, , , ,N
Point06,xy, 3910, 1703,ex, deg, 67, 10.0000,N, 33, 0.0000,E, grid, , , ,N
Point07,xy, 117, 3314,in, deg, 67, 0.0000,N, 32, 0.0000,E, grid, , , ,N
Point08,xy, 2027, 3329,in, deg, 67, 0.0000,N, 32, 30.0000,E, grid, , , ,N
Point09,xy, 3934, 3324,in, deg, 67, 0.0000,N, 33, 0.0000,E, grid, , , ,N
Point10,xy, , ,in, deg, , ,N, , ,W, grid, , , ,N
Point11,xy, , ,in, deg, , ,N, , ,W, grid, , , ,N
Point12,xy, , ,in, deg, , ,N, , ,W, grid, , , ,N
Point13,xy, , ,in, deg, , ,N, , ,W, grid, , , ,N
Point14,xy, , ,in, deg, , ,N, , ,W, grid, , , ,N
Point15,xy, , ,in, deg, , ,N, , ,W, grid, , , ,N
Point16,xy, , ,in, deg, , ,N, , ,W, grid, , , ,N
Point17,xy, , ,in, deg, , ,N, , ,W, grid, , , ,N
Point18,xy, , ,in, deg, , ,N, , ,W, grid, , , ,N
Point19,xy, , ,in, deg, , ,N, , ,W, grid, , , ,N
Point20,xy, , ,in, deg, , ,N, , ,W, grid, , , ,N
Point21,xy, , ,in, deg, , ,N, , ,W, grid, , , ,N
Point22,xy, , ,in, deg, , ,N, , ,W, grid, , , ,N
Point23,xy, , ,in, deg, , ,N, , ,W, grid, , , ,N
Point24,xy, , ,in, deg, , ,N, , ,W, grid, , , ,N
Point25,xy, , ,in, deg, , ,N, , ,W, grid, , , ,N
Point26,xy, , ,in, deg, , ,N, , ,W, grid, , , ,N
Point27,xy, , ,in, deg, , ,N, , ,W, grid, , , ,N
Point28,xy, , ,in, deg, , ,N, , ,W, grid, , , ,N
Point29,xy, , ,in, deg, , ,N, , ,W, grid, , , ,N
Point30,xy, , ,in, deg, , ,N, , ,W, grid, , , ,N
Projection Setup, 0.000000000, 33.000000000, 1.000000000, 500000.00, 0.00,,,,,
Map Feature = MF ; Map Comment = MC These follow if they exist
Track File = TF These follow if they exist
Moving Map Parameters = MM? These follow if they exist
MM0,Yes
MMPNUM,4
MMPXY,1,134,78
MMPXY,2,3878,81
MMPXY,3,3934,3324
MMPXY,4,117,3314
MMPLL,1, 32.000000, 67.333333
MMPLL,2, 33.000000, 67.333333
MMPLL,3, 33.000000, 67.000000
MMPLL,4, 32.000000, 67.000000
MM1B,10.752688
MOP,Map Open Position,0,0
IWH,Map Image Width/Height,4058,3441
